BEGIN:VCALENDAR
VERSION:2.0
PRODID:-//wp-events-plugin.com//6.4.7.2//EN
BEGIN:VEVENT
UID:50@biochaco.org
DTSTART:20250117T090000Z
DTEND:20250117T223000Z
DTSTAMP:20250128T182824Z
URL:https://biochaco.org/es_es/actividades/5to-conteo-latinoamericano-de-a
 ves-urbanas-2025/
SUMMARY:5to Conteo Latinoamericano de Aves Urbanas 2025
DESCRIPTION:\nUnidos por las alas y la cultura\n\n\nEste conteo es una inic
 iativa del Programa de Aves Urbanas (PAU) de la Dirección de Cooperación
  y Gestión de Información para el Conocimiento y Conservación de las Av
 es de la Comisión Nacional para el Conocimiento y Uso de la Biodiversidad
  (CONABIO). Con el fin de promover el interés y la participación ciudada
 na en la observación de aves urbanas en Latinoamérica y el Caribe.\n\n\n
 ¿En qué consiste?\nEn observar aves desde tu patio\, parque cercano\, ve
 ntana o en cualquier lugar dentro de tu ciudad y anotar tus registros.\n\n
 \n¿Quiénes pueden participar?\nCualquier persona con conocimiento en la 
 identificación de aves\n\n\n¿Cómo participar?\nAl compartir los registr
 os en la plataforma digital eBird (desde la computadora o celular) al usua
 rio PAULATINOAMERICA.\n\n\n¿En qué fechas se realiza el conteo?\nLos dí
 as 17\, 18 y 19 de enero del 2025\n\n\n¡Se parte del conteo y contribuye 
 a la ciencia ciudadana!\n\nMás informacion a los celulares:\n\n67396666 -
  67755000 - 76833909
ATTACH;FMTTYPE=image/jpeg:https://biochaco.org/wp-content/uploads/2025/01/
 473992890_122158036286328469_4481555004585002079_n.jpg
END:VEVENT
END:VCALENDAR