BEGIN:VCALENDAR
VERSION:2.0
PRODID:-//wp-events-plugin.com//6.4.7.2//EN
BEGIN:VEVENT
UID:46@biochaco.org
DTSTART:20241018T140000Z
DTEND:20241018T150000Z
DTSTAMP:20241019T010928Z
URL:https://biochaco.org/es_es/actividades/presentacion-oficial-de-la-webs
 ite-biochaco-org/
SUMMARY:Presentación oficial de la website Biochaco.org
DESCRIPTION:\n\n 	Inauguración oficial de la página web de la Fundación 
 Biochaco.\n\n\n&nbsp\;\n\nHoy viernes 18 de octubre de 2024 en la sala de 
 exposición fotográfica Ïvy Maraeï\, se llevó a cabo con una ceremonia
  y un pequeño picadito\, la presentación oficial de la website https://b
 iochaco.org y con la presencia de miembros de la prensa\, plataforma de tu
 rismo\, plataforma ambiental\, Club de Observación de Aves COA Chaco con 
 en objetivo de mostrar al mundo los objetivos\, metas\, logros\, trabajos 
 ambientales\, educación ambiental\, difusión mediante micro documentales
 \, paquetes turísticos\, aliados estratégicos y mucho más\, lo que vien
 e realizando la Fundación Biochaco.\n\nTodo esto no se hubiera logrado si
 n el apoyo incondicional de los miembros e impulsores como son: Ivonne Lan
 za y Fons Smolders\, el trabajo en conjunto de todos los miembros de la Fu
 ndación Biochaco y al programador y creador de la website\, Rolando...
ATTACH;FMTTYPE=image/jpeg:https://biochaco.org/wp-content/uploads/2024/10/
 IMG-20241018-WA0041.jpg
END:VEVENT
END:VCALENDAR